BEGIN:VCALENDAR
VERSION:2.0
PRODID:-//wp-events-plugin.com//7.2.3.1//EN
TZID:Europe/Berlin
X-WR-TIMEZONE:Europe/Berlin
BEGIN:VEVENT
UID:17944@kirche-boeckingen-klingenberg.de
DTSTART:20240623T103000Z
DTEND:20240623T113000Z
DTSTAMP:20240614T123517Z
URL:https://kirche-boeckingen-klingenberg.de/events/zentraler-tauf-und-tau
 ferinnerungs-gottesdienst-bei-der-stadtkirche
SUMMARY:Zentraler Tauf- und Tauferinnerungs-Gottesdienst bei der Stadtkirch
 e
DESCRIPTION:Kinderkirche
CATEGORIES:Angebote,Gottesdienste,Kinder und
 Jugendliche,Kinderkirche,Stadtkirche
LOCATION:Stadtkirche\, Kirchsteige 10\, Heilbronn-Böckingen\, 74080\, Deut
 schland
X-APPLE-STRUCTURED-LOCATION;VALUE=URI;X-ADDRESS=Kirchsteige 10\, Heilbronn-
 Böckingen\, 74080\, Deutschland;X-APPLE-RADIUS=100;X-TITLE=Stadtkirche:ge
 o:0,0
END:VEVENT
END:VCALENDAR