BEGIN:VCALENDAR
VERSION:2.0
PRODID:-//wp-events-plugin.com//7.2.3.1//EN
TZID:Europe/Berlin
X-WR-TIMEZONE:Europe/Berlin
BEGIN:VEVENT
UID:19563@kirche-boeckingen-klingenberg.de
DTSTART:20251226T100000Z
DTEND:20251226T110000Z
DTSTAMP:20250919T115516Z
URL:https://kirche-boeckingen-klingenberg.de/events/zentraler-musikalische
 r-gottesdienst-am-2-weihnachtstag-in-der-kirche-in-klingenberg-pfarrer-sta
 dler
SUMMARY:Zentraler musikalischer Gottesdienst am 2. Weihnachtstag in der Kir
 che in Klingenberg - Pfarrer Stadler
DESCRIPTION:
CATEGORIES:Angebote,Gottesdienste,Kirche Klingenberg
LOCATION:Kirche Klingenberg\, Kirchgässle 10\, Heilbronn-Klingenberg\, 740
 81\, Deutschland
X-APPLE-STRUCTURED-LOCATION;VALUE=URI;X-ADDRESS=Kirchgässle 10\, Heilbronn
 -Klingenberg\, 74081\, Deutschland;X-APPLE-RADIUS=100;X-TITLE=Kirche Kling
 enberg:geo:0,0
END:VEVENT
END:VCALENDAR