BEGIN:VCALENDAR
VERSION:2.0
PRODID:-//wp-events-plugin.com//7.2.3.1//EN
TZID:Europe/Berlin
X-WR-TIMEZONE:Europe/Berlin
BEGIN:VEVENT
UID:20755@kirche-boeckingen-klingenberg.de
DTSTART;TZID=Europe/Berlin:20260514T100000
DTEND;TZID=Europe/Berlin:20260514T100000
DTSTAMP:20260408T131857Z
URL:https://kirche-boeckingen-klingenberg.de/events/zentraler-gottesdienst
 -zum-baumstriezelfest-in-der-auferstehungskirche-pfarrerin-siegel
SUMMARY:Zentraler Gottesdienst zum Baumstriezelfest in der Auferstehungskir
 che - Pfarrerin Siegel
DESCRIPTION:
CATEGORIES:Angebote,Auferstehungskirche,Gottesdienste
LOCATION:Auferstehungskirche\, Sonnenbergstraße 19\, Heilbronn-Böckingen\
 , 74080\, Deutschland
X-APPLE-STRUCTURED-LOCATION;VALUE=URI;X-ADDRESS=Sonnenbergstraße 19\, Heil
 bronn-Böckingen\, 74080\, Deutschland;X-APPLE-RADIUS=100;X-TITLE=Auferste
 hungskirche:geo:0,0
END:VEVENT
BEGIN:VTIMEZONE
TZID:Europe/Berlin
X-LIC-LOCATION:Europe/Berlin
BEGIN:DAYLIGHT
DTSTART:20260329T030000
TZOFFSETFROM:+0100
TZOFFSETTO:+0200
TZNAME:CEST
END:DAYLIGHT
END:VTIMEZONE
END:VCALENDAR