BEGIN:VCALENDAR
VERSION:2.0
PRODID:-//wp-events-plugin.com//7.2.3.1//EN
TZID:Europe/Berlin
X-WR-TIMEZONE:Europe/Berlin
BEGIN:VEVENT
UID:16893@kirche-boeckingen-klingenberg.de
DTSTART:20231112T110000Z
DTEND:20231112T120000Z
DTSTAMP:20231031T092831Z
URL:https://kirche-boeckingen-klingenberg.de/events/zentraler-eroeffnungsg
 ottesdienst-zur-oekum-friedensdekade-in-der-kilianskirche-heilbronn
SUMMARY:Zentraler Eröffnungsgottesdienst zur ökum. Friedensdekade in der 
 Kilianskirche Heilbronn
DESCRIPTION:
CATEGORIES:Angebote,Gottesdienste
END:VEVENT
END:VCALENDAR