BEGIN:VCALENDAR
VERSION:2.0
PRODID:-//wp-events-plugin.com//7.2.3.1//EN
TZID:Europe/Berlin
X-WR-TIMEZONE:Europe/Berlin
BEGIN:VEVENT
UID:18031@kirche-boeckingen-klingenberg.de
DTSTART:20240612T100000Z
DTEND:20251210T140000Z
DTSTAMP:20240514T095301Z
URL:https://kirche-boeckingen-klingenberg.de/event-recurring/wandertreff-i
 n-klingenberg
SUMMARY:Wandertreff in Klingenberg
DESCRIPTION:Treffpunkt Parkplatz am Steg
CATEGORIES:Angebote
END:VEVENT
END:VCALENDAR