BEGIN:VCALENDAR
VERSION:2.0
PRODID:-//wp-events-plugin.com//7.2.3.1//EN
TZID:Europe/Berlin
X-WR-TIMEZONE:Europe/Berlin
BEGIN:VEVENT
UID:19553@kirche-boeckingen-klingenberg.de
DTSTART:20251221T180000Z
DTEND:20251221T190000Z
DTSTAMP:20250919T112729Z
URL:https://kirche-boeckingen-klingenberg.de/events/waldweihnacht-im-ziege
 leipark-evang-jugendwerk-und-posaunenchor
SUMMARY:Waldweihnacht im Ziegeleipark - Evang. Jugendwerk und Posaunenchor
DESCRIPTION:
CATEGORIES:Angebote
LOCATION:Ziegeleipark\, Heuchelbergstraße\, Heilbronn-Böckingen\, 74080\,
  Deutschland
X-APPLE-STRUCTURED-LOCATION;VALUE=URI;X-ADDRESS=Heuchelbergstraße\, Heilbr
 onn-Böckingen\, 74080\, Deutschland;X-APPLE-RADIUS=100;X-TITLE=Ziegeleipa
 rk:geo:0,0
END:VEVENT
END:VCALENDAR