BEGIN:VCALENDAR
VERSION:2.0
PRODID:-//wp-events-plugin.com//7.2.3.1//EN
TZID:Europe/Berlin
X-WR-TIMEZONE:Europe/Berlin
BEGIN:VEVENT
UID:17936@kirche-boeckingen-klingenberg.de
DTSTART:20240519T170000Z
DTEND:20240519T180000Z
DTSTAMP:20240508T094844Z
URL:https://kirche-boeckingen-klingenberg.de/events/trompete-und-orgel-jub
 ilaeumskonzert-zu-pfingsten-in-der-stadtkirche
SUMMARY:Trompete und Orgel - Jubiläumskonzert zu Pfingsten in der Stadtkir
 che
DESCRIPTION:
ATTACH;FMTTYPE=image/jpeg:https://kirche-boeckingen-klingenberg.de/wp-cont
 ent/uploads/2024/05/24-05-19-Trp-Org.Konzert-25J__01-scaled.jpg
CATEGORIES:Angebote,Kirchenmusik,Stadtkirche
LOCATION:Stadtkirche\, Kirchsteige 10\, Heilbronn-Böckingen\, 74080\, Deut
 schland
X-APPLE-STRUCTURED-LOCATION;VALUE=URI;X-ADDRESS=Kirchsteige 10\, Heilbronn-
 Böckingen\, 74080\, Deutschland;X-APPLE-RADIUS=100;X-TITLE=Stadtkirche:ge
 o:0,0
END:VEVENT
END:VCALENDAR