BEGIN:VCALENDAR
VERSION:2.0
PRODID:-//wp-events-plugin.com//7.2.3.1//EN
TZID:Europe/Berlin
X-WR-TIMEZONE:Europe/Berlin
BEGIN:VEVENT
UID:14335@kirche-boeckingen-klingenberg.de
DTSTART:20230403T093000Z
DTEND:20230403T110000Z
DTSTAMP:20230220T064405Z
URL:https://kirche-boeckingen-klingenberg.de/events/tanze-mit-und-bleibe-f
 it-2023-04-03
SUMMARY:Tanze mit und bleibe fit
DESCRIPTION:“Suche die kleinen Dinge\, die dem Leben Freude geben.“ (Ko
 nfuzius)\n\nTanzen ist eine Möglichkeit sich wohl zu fühlen. Es macht Sp
 aß\, sich in Gemeinschaft zu bewegen und miteinander Neues zu erlernen.\n
 Tanzerfahrungen werden nicht vorausgesetzt\, da alle Tänze angesagt und a
 ngeleitet werden.\nWir tanzen zu Rhythmen aus Folklore\, Gesellschaftstanz
  und Unterhaltungsmusik.\n\nNeueinsteigerInnen sind jederzeit herzlich wil
 lkommen!
CATEGORIES:Angebote,Tanze mit und bleibe fit
LOCATION:Auferstehungskirche\, Sonnenbergstraße 19\, Heilbronn-Böckingen\
 , 74080\, Deutschland
X-APPLE-STRUCTURED-LOCATION;VALUE=URI;X-ADDRESS=Sonnenbergstraße 19\, Heil
 bronn-Böckingen\, 74080\, Deutschland;X-APPLE-RADIUS=100;X-TITLE=Auferste
 hungskirche:geo:0,0
END:VEVENT
END:VCALENDAR