BEGIN:VCALENDAR
VERSION:2.0
PRODID:-//wp-events-plugin.com//7.2.3.1//EN
TZID:Europe/Berlin
X-WR-TIMEZONE:Europe/Berlin
BEGIN:VEVENT
UID:18551@kirche-boeckingen-klingenberg.de
DTSTART:20251006T093000Z
DTEND:20251006T110000Z
DTSTAMP:20241024T104311Z
URL:https://kirche-boeckingen-klingenberg.de/events/tanze-mit-bleibe-fit-2
 -2025-10-06
SUMMARY:Tanze mit - bleibe fit
DESCRIPTION:
CATEGORIES:Angebote,Auferstehungskirche,Großer Saal UG,Tanze mit und
 bleibe fit
LOCATION:Auferstehungskirche\, Sonnenbergstraße 19\, Heilbronn-Böckingen\
 , 74080\, Deutschland
X-APPLE-STRUCTURED-LOCATION;VALUE=URI;X-ADDRESS=Sonnenbergstraße 19\, Heil
 bronn-Böckingen\, 74080\, Deutschland;X-APPLE-RADIUS=100;X-TITLE=Auferste
 hungskirche:geo:0,0
END:VEVENT
END:VCALENDAR