BEGIN:VCALENDAR
VERSION:2.0
PRODID:-//wp-events-plugin.com//7.2.3.1//EN
TZID:Europe/Berlin
X-WR-TIMEZONE:Europe/Berlin
BEGIN:VEVENT
UID:16834@kirche-boeckingen-klingenberg.de
DTSTART:20230915T180000Z
DTEND:20230915T184500Z
DTSTAMP:20230829T072201Z
URL:https://kirche-boeckingen-klingenberg.de/events/tag-der-schoepfung
SUMMARY:Tag der Schöpfung
DESCRIPTION:
CATEGORIES:Angebote,Familienzentrum
 Kreuzgrund,Gottesdienste,Versöhnungskirche,Wochenschluss
LOCATION:Versöhnungskirche\, Holunderweg 57\, Heilbronn-Böckingen\, 74080
 \, Deutschland
X-APPLE-STRUCTURED-LOCATION;VALUE=URI;X-ADDRESS=Holunderweg 57\, Heilbronn-
 Böckingen\, 74080\, Deutschland;X-APPLE-RADIUS=100;X-TITLE=Versöhnungski
 rche:geo:0,0
END:VEVENT
END:VCALENDAR