BEGIN:VCALENDAR
VERSION:2.0
PRODID:-//wp-events-plugin.com//7.2.3.1//EN
TZID:Europe/Berlin
X-WR-TIMEZONE:Europe/Berlin
BEGIN:VEVENT
UID:18733@kirche-boeckingen-klingenberg.de
DTSTART:20250918T143000Z
DTEND:20250918T163000Z
DTSTAMP:20250123T123223Z
URL:https://kirche-boeckingen-klingenberg.de/events/sonnenbergtreff-und-ge
 meindebriefdienst-in-der-auferstehungskirche-3
SUMMARY:Sonnenbergtreff und Gemeindebriefdienst in der Auferstehungskirche
DESCRIPTION:
CATEGORIES:Angebote,Auferstehungskirche,Gemeindesaal EG
LOCATION:Auferstehungskirche\, Sonnenbergstraße 19\, Heilbronn-Böckingen\
 , 74080\, Deutschland
X-APPLE-STRUCTURED-LOCATION;VALUE=URI;X-ADDRESS=Sonnenbergstraße 19\, Heil
 bronn-Böckingen\, 74080\, Deutschland;X-APPLE-RADIUS=100;X-TITLE=Auferste
 hungskirche:geo:0,0
END:VEVENT
END:VCALENDAR