BEGIN:VCALENDAR
VERSION:2.0
PRODID:-//wp-events-plugin.com//7.2.3.1//EN
TZID:Europe/Berlin
X-WR-TIMEZONE:Europe/Berlin
BEGIN:VEVENT
UID:20758@kirche-boeckingen-klingenberg.de
DTSTART;TZID=Europe/Berlin:20260521T143000
DTEND;TZID=Europe/Berlin:20260521T143000
DTSTAMP:20260408T132655Z
URL:https://kirche-boeckingen-klingenberg.de/events/sonnenbergtreff-und-ge
 meindebrief-ausgabe-in-der-auferstehungskirche
SUMMARY:Sonnenbergtreff und Gemeindebrief-Ausgabe in der Auferstehungskirch
 e
DESCRIPTION:"Geh aus mein Herz - zum 350. Geburtstag von Paul Gerhard"\nmit
  Pfarrer Dr. Rexer und Pfarrer Stadler
CATEGORIES:Angebote,Auferstehungskirche
LOCATION:Auferstehungskirche\, Sonnenbergstraße 19\, Heilbronn-Böckingen\
 , 74080\, Deutschland
X-APPLE-STRUCTURED-LOCATION;VALUE=URI;X-ADDRESS=Sonnenbergstraße 19\, Heil
 bronn-Böckingen\, 74080\, Deutschland;X-APPLE-RADIUS=100;X-TITLE=Auferste
 hungskirche:geo:0,0
END:VEVENT
BEGIN:VTIMEZONE
TZID:Europe/Berlin
X-LIC-LOCATION:Europe/Berlin
BEGIN:DAYLIGHT
DTSTART:20260329T030000
TZOFFSETFROM:+0100
TZOFFSETTO:+0200
TZNAME:CEST
END:DAYLIGHT
END:VTIMEZONE
END:VCALENDAR