BEGIN:VCALENDAR
VERSION:2.0
PRODID:-//wp-events-plugin.com//7.2.3.1//EN
TZID:Europe/Berlin
X-WR-TIMEZONE:Europe/Berlin
BEGIN:VEVENT
UID:15841@kirche-boeckingen-klingenberg.de
DTSTART:20230914T143000Z
DTEND:20230914T160000Z
DTSTAMP:20230530T095709Z
URL:https://kirche-boeckingen-klingenberg.de/events/sonnenbergtreff-fuer-s
 enioren
SUMMARY:Sonnenbergtreff für Senioren gemeinsam mit dem Gemeindebrief-Verte
 ilerdienst
DESCRIPTION:"Benedikt von Nursia"\n\nmit Pfarrer Dr. Rexer
CATEGORIES:Auferstehungskirche,Gemeindesaal EG
LOCATION:Auferstehungskirche\, Sonnenbergstraße 19\, Heilbronn-Böckingen\
 , 74080\, Deutschland
X-APPLE-STRUCTURED-LOCATION;VALUE=URI;X-ADDRESS=Sonnenbergstraße 19\, Heil
 bronn-Böckingen\, 74080\, Deutschland;X-APPLE-RADIUS=100;X-TITLE=Auferste
 hungskirche:geo:0,0
END:VEVENT
END:VCALENDAR