BEGIN:VCALENDAR
VERSION:2.0
PRODID:-//wp-events-plugin.com//7.2.3.1//EN
TZID:Europe/Berlin
X-WR-TIMEZONE:Europe/Berlin
BEGIN:VEVENT
UID:19778@kirche-boeckingen-klingenberg.de
DTSTART;TZID=Europe/Berlin:20260122T143000
DTEND;TZID=Europe/Berlin:20260122T160000
DTSTAMP:20251222T150913Z
URL:https://kirche-boeckingen-klingenberg.de/events/sonnenbergtreff-fuer-s
 enioren-in-der-auferstehungskirche-3
SUMMARY:Sonnenbergtreff für Senioren in der Auferstehungskirche
DESCRIPTION:"Die Jahreslosung in Wort\, Bild und Ton"
CATEGORIES:Angebote,Auferstehungskirche,Gemeindesaal EG
LOCATION:Auferstehungskirche\, Sonnenbergstraße 19\, Heilbronn-Böckingen\
 , 74080\, Deutschland
X-APPLE-STRUCTURED-LOCATION;VALUE=URI;X-ADDRESS=Sonnenbergstraße 19\, Heil
 bronn-Böckingen\, 74080\, Deutschland;X-APPLE-RADIUS=100;X-TITLE=Auferste
 hungskirche:geo:0,0
END:VEVENT
BEGIN:VTIMEZONE
TZID:Europe/Berlin
X-LIC-LOCATION:Europe/Berlin
BEGIN:STANDARD
DTSTART:20251026T020000
TZOFFSETFROM:+0200
TZOFFSETTO:+0100
TZNAME:CET
END:STANDARD
END:VTIMEZONE
END:VCALENDAR