BEGIN:VCALENDAR
VERSION:2.0
PRODID:-//wp-events-plugin.com//7.2.3.1//EN
TZID:Europe/Berlin
X-WR-TIMEZONE:Europe/Berlin
BEGIN:VEVENT
UID:18737@kirche-boeckingen-klingenberg.de
DTSTART:20250410T000000Z
DTEND:20250410T000000Z
DTSTAMP:20250123T133422Z
URL:https://kirche-boeckingen-klingenberg.de/events/sonnenbergtreff-fuer-s
 enioren-halbtagesausflug-nach-markgroeningen
SUMMARY:Sonnenbergtreff für Senioren - Halbtagesausflug nach Markgröninge
 n
DESCRIPTION:
CATEGORIES:Angebote
END:VEVENT
END:VCALENDAR