BEGIN:VCALENDAR
VERSION:2.0
PRODID:-//wp-events-plugin.com//7.2.3.1//EN
TZID:Europe/Berlin
X-WR-TIMEZONE:Europe/Berlin
BEGIN:VEVENT
UID:14343@kirche-boeckingen-klingenberg.de
DTSTART:20230316T143000Z
DTEND:20230316T143000Z
DTSTAMP:20230220T065013Z
URL:https://kirche-boeckingen-klingenberg.de/events/sonnenbergtreff-fuer-s
 enioren-2
SUMMARY:Sonnenbergtreff für Senioren
DESCRIPTION:Schwungvoll in den Frühling\nFrau Häfner\n\nGemütliches Beis
 ammensein bei Kaffee und Kuchen\n\nDer Gesprächskreis für Frauen und der
  Sonnenbergtreff für Senioren haben fusioniert.
CATEGORIES:Sonnenbergtreff für Senioren
LOCATION:Auferstehungskirche\, Sonnenbergstraße 19\, Heilbronn-Böckingen\
 , 74080\, Deutschland
X-APPLE-STRUCTURED-LOCATION;VALUE=URI;X-ADDRESS=Sonnenbergstraße 19\, Heil
 bronn-Böckingen\, 74080\, Deutschland;X-APPLE-RADIUS=100;X-TITLE=Auferste
 hungskirche:geo:0,0
END:VEVENT
END:VCALENDAR