BEGIN:VCALENDAR
VERSION:2.0
PRODID:-//wp-events-plugin.com//7.2.3.1//EN
TZID:Europe/Berlin
X-WR-TIMEZONE:Europe/Berlin
BEGIN:VEVENT
UID:17930@kirche-boeckingen-klingenberg.de
DTSTART:20240720T163000Z
DTEND:20240720T171500Z
DTSTAMP:20240710T093821Z
URL:https://kirche-boeckingen-klingenberg.de/events/sommerfest-beim-famili
 enzentrum-kreuzgrund-2
SUMMARY:Gottesdienst zum Sommerfest beim Familienzentrum Kreuzgrund - Pfarr
 er Dr. Rexer/Pfarrer Stadler
DESCRIPTION:mit dem Gospelchor und dem Kirchenchor\nmit den Kindergärten u
 nd Kinderkirche
ATTACH;FMTTYPE=image/jpeg:https://kirche-boeckingen-klingenberg.de/wp-cont
 ent/uploads/2024/05/24Sommerfest_01-scaled.jpg
CATEGORIES:alle Räume,Angebote,Familienzentrum Kreuzgrund
LOCATION:Familienzentrum Kreuzgrund\, Holunderweg 57\, Heilbronn-Böckingen
 \, 74080\, Deutschland
X-APPLE-STRUCTURED-LOCATION;VALUE=URI;X-ADDRESS=Holunderweg 57\, Heilbronn-
 Böckingen\, 74080\, Deutschland;X-APPLE-RADIUS=100;X-TITLE=Familienzentru
 m Kreuzgrund:geo:0,0
END:VEVENT
END:VCALENDAR