BEGIN:VCALENDAR
VERSION:2.0
PRODID:-//wp-events-plugin.com//7.2.3.1//EN
TZID:Europe/Berlin
X-WR-TIMEZONE:Europe/Berlin
BEGIN:VEVENT
UID:14316@kirche-boeckingen-klingenberg.de
DTSTART:20230305T170000Z
DTEND:20230305T170000Z
DTSTAMP:20230220T062707Z
URL:https://kirche-boeckingen-klingenberg.de/events/soiree-fuer-gesang-flo
 ete-und-klavier
SUMMARY:Soirée für Gesang\, Flöte und Klavier
DESCRIPTION:„Von Blumen und sprudelnden Quellen“\nMitwirkende\n\n 	Walt
 raud Kommerell\, Sopran\n 	Renate Paland\, Flöte\n 	Bettina Anderle\, Kla
 vier\n\nEintritt frei - um Spenden wird gebeten
CATEGORIES:Kirchenmusik
LOCATION:Versöhnungskirche\, Holunderweg 57\, Heilbronn-Böckingen\, 74080
 \, Deutschland
X-APPLE-STRUCTURED-LOCATION;VALUE=URI;X-ADDRESS=Holunderweg 57\, Heilbronn-
 Böckingen\, 74080\, Deutschland;X-APPLE-RADIUS=100;X-TITLE=Versöhnungski
 rche:geo:0,0
END:VEVENT
END:VCALENDAR