BEGIN:VCALENDAR
VERSION:2.0
PRODID:-//wp-events-plugin.com//7.2.3.1//EN
TZID:Europe/Berlin
X-WR-TIMEZONE:Europe/Berlin
BEGIN:VEVENT
UID:14261@kirche-boeckingen-klingenberg.de
DTSTART:20230305T100000Z
DTEND:20230305T100000Z
DTSTAMP:20230220T035056Z
URL:https://kirche-boeckingen-klingenberg.de/events/reminiszere
SUMMARY:Reminiszere
DESCRIPTION:Zentraler ökumenischer Gottesdienst – Pfarrer Pappe und Pfar
 rer Stadler\n\nMusik: Gospelchor ON THE WAY mit Thomas J. Astfalk\nÖkumen
 ischer Gottesdienst für bedrängte und verfolgte Christen\nAuch in diesem
  Jahr feiern wir wieder einen zentralen ökumenischen Gottesdienst am Sonn
 tag\nReminiszere bzw. dem zweiten Fastensonntag. Wir wollen gemeinsam hins
 chauen auf die\nSituation verfolgter Christen in der Welt. In diesem Jahr 
 ist die Volksrepublik China im Fokus\,\nin der seit 2018 die Repressionen 
 wieder zugenommen haben. Herzliche Einladung!
CATEGORIES:Gottesdienste,Gottesdienste mit Musik
LOCATION:Auferstehungskirche\, Sonnenbergstraße 19\, Heilbronn-Böckingen\
 , 74080\, Deutschland
X-APPLE-STRUCTURED-LOCATION;VALUE=URI;X-ADDRESS=Sonnenbergstraße 19\, Heil
 bronn-Böckingen\, 74080\, Deutschland;X-APPLE-RADIUS=100;X-TITLE=Auferste
 hungskirche:geo:0,0
END:VEVENT
END:VCALENDAR