BEGIN:VCALENDAR
VERSION:2.0
PRODID:-//wp-events-plugin.com//7.2.3.1//EN
TZID:Europe/Berlin
X-WR-TIMEZONE:Europe/Berlin
BEGIN:VEVENT
UID:14290@kirche-boeckingen-klingenberg.de
DTSTART:20230416T103000Z
DTEND:20230416T103000Z
DTSTAMP:20230215T041331Z
URL:https://kirche-boeckingen-klingenberg.de/events/quasimodogeniti-2
SUMMARY:Quasimodogeniti
DESCRIPTION:Gottesdienst mit Taufmöglichkeit – Pfarrer Stadler
CATEGORIES:Gottesdienste,Gottesdienste mit Taufmöglichkeit
LOCATION:Stadtkirche\, Kirchsteige 10\, Heilbronn-Böckingen\, 74080\, Deut
 schland
X-APPLE-STRUCTURED-LOCATION;VALUE=URI;X-ADDRESS=Kirchsteige 10\, Heilbronn-
 Böckingen\, 74080\, Deutschland;X-APPLE-RADIUS=100;X-TITLE=Stadtkirche:ge
 o:0,0
END:VEVENT
END:VCALENDAR