BEGIN:VCALENDAR
VERSION:2.0
PRODID:-//wp-events-plugin.com//7.2.3.1//EN
TZID:Europe/Berlin
X-WR-TIMEZONE:Europe/Berlin
BEGIN:VEVENT
UID:19520@kirche-boeckingen-klingenberg.de
DTSTART:20251109T100000Z
DTEND:20251109T110000Z
DTSTAMP:20250819T112637Z
URL:https://kirche-boeckingen-klingenberg.de/events/prominentenpredigt-in-
 der-auferstehungskirche-buergermeister-diepgen-und-pfarrer-dr-rexer
SUMMARY:Prominentenpredigt in der Auferstehungskirche - Bürgermeister Diep
 gen und Pfarrer Dr. Rexer
DESCRIPTION:anschl. Ständerling
CATEGORIES:Angebote,Auferstehungskirche,Gottesdienste
LOCATION:Auferstehungskirche\, Sonnenbergstraße 19\, Heilbronn-Böckingen\
 , 74080\, Deutschland
X-APPLE-STRUCTURED-LOCATION;VALUE=URI;X-ADDRESS=Sonnenbergstraße 19\, Heil
 bronn-Böckingen\, 74080\, Deutschland;X-APPLE-RADIUS=100;X-TITLE=Auferste
 hungskirche:geo:0,0
END:VEVENT
END:VCALENDAR