BEGIN:VCALENDAR
VERSION:2.0
PRODID:-//wp-events-plugin.com//7.2.3.1//EN
TZID:Europe/Berlin
X-WR-TIMEZONE:Europe/Berlin
BEGIN:VEVENT
UID:14318@kirche-boeckingen-klingenberg.de
DTSTART:20230318T110000Z
DTEND:20230318T120000Z
DTSTAMP:20230220T063013Z
URL:https://kirche-boeckingen-klingenberg.de/events/probe-projekt-kinderch
 or-2
SUMMARY:Probe Projekt-Kinderchor
DESCRIPTION:Die Kinder singen am 19. März im Gottesdienst für Jung und Al
 t unter der Leitung von Bettina Astfalk-Lehmann.\n\nInfos und Anmeldung be
 i\nBettina Astfalk-Lehmann\, Tel. 477 480\nbettina.astfalklehmann@web.de
CATEGORIES:Kinder und Jugendliche,Kirchenmusik
LOCATION:Stadtkirche\, Kirchsteige 10\, Heilbronn-Böckingen\, 74080\, Deut
 schland
X-APPLE-STRUCTURED-LOCATION;VALUE=URI;X-ADDRESS=Kirchsteige 10\, Heilbronn-
 Böckingen\, 74080\, Deutschland;X-APPLE-RADIUS=100;X-TITLE=Stadtkirche:ge
 o:0,0
END:VEVENT
END:VCALENDAR