BEGIN:VCALENDAR
VERSION:2.0
PRODID:-//wp-events-plugin.com//7.2.3.1//EN
TZID:Europe/Berlin
X-WR-TIMEZONE:Europe/Berlin
BEGIN:VEVENT
UID:19410@kirche-boeckingen-klingenberg.de
DTSTART:20250823T093000Z
DTEND:20250823T103000Z
DTSTAMP:20250715T101252Z
URL:https://kirche-boeckingen-klingenberg.de/events/predigtvorgespraech-in
 -der-stadtkirche-pfarrer-stadler
SUMMARY:Predigtvorgespräch in der Stadtkirche - Pfarrer Stadler
DESCRIPTION:
CATEGORIES:Angebote,Stadtkirche
LOCATION:Stadtkirche\, Kirchsteige 10\, Heilbronn-Böckingen\, 74080\, Deut
 schland
X-APPLE-STRUCTURED-LOCATION;VALUE=URI;X-ADDRESS=Kirchsteige 10\, Heilbronn-
 Böckingen\, 74080\, Deutschland;X-APPLE-RADIUS=100;X-TITLE=Stadtkirche:ge
 o:0,0
END:VEVENT
END:VCALENDAR