BEGIN:VCALENDAR
VERSION:2.0
PRODID:-//wp-events-plugin.com//7.2.3.1//EN
TZID:Europe/Berlin
X-WR-TIMEZONE:Europe/Berlin
BEGIN:VEVENT
UID:20687@kirche-boeckingen-klingenberg.de
DTSTART;TZID=Europe/Berlin:20260414T150000
DTEND;TZID=Europe/Berlin:20260414T170000
DTSTAMP:20260309T143144Z
URL:https://kirche-boeckingen-klingenberg.de/events/petrusrunde-fruehling-
 laesst-sein-blaues-band-im-lukas-gemeindehaus-in-klingenberg
SUMMARY:Petrusrunde - "Frühling lässt sein blaues Band" - im Lukas-Gemein
 dehaus in Klingenberg
DESCRIPTION:mit Kantorin Dorothea Häfner und Pfarrer Stadler
CATEGORIES:Angebote,Lukas-Gemeindehaus
LOCATION:Lukas-Gemeindehaus\, Kirchgässle 10\, Heilbronn-Klingenberg\, 740
 81\, Deutschland
X-APPLE-STRUCTURED-LOCATION;VALUE=URI;X-ADDRESS=Kirchgässle 10\, Heilbronn
 -Klingenberg\, 74081\, Deutschland;X-APPLE-RADIUS=100;X-TITLE=Lukas-Gemein
 dehaus:geo:0,0
END:VEVENT
BEGIN:VTIMEZONE
TZID:Europe/Berlin
X-LIC-LOCATION:Europe/Berlin
BEGIN:DAYLIGHT
DTSTART:20260329T030000
TZOFFSETFROM:+0100
TZOFFSETTO:+0200
TZNAME:CEST
END:DAYLIGHT
END:VTIMEZONE
END:VCALENDAR