BEGIN:VCALENDAR
VERSION:2.0
PRODID:-//wp-events-plugin.com//7.2.3.1//EN
TZID:Europe/Berlin
X-WR-TIMEZONE:Europe/Berlin
BEGIN:VEVENT
UID:15806@kirche-boeckingen-klingenberg.de
DTSTART:20230402T093000Z
DTEND:20230402T103000Z
DTSTAMP:20230324T114627Z
URL:https://kirche-boeckingen-klingenberg.de/events/palmsonntag-katechismu
 s-gottesdienst
SUMMARY:Palmsonntag
DESCRIPTION:Katechismus-Gottesdienst\, Pfarrer Dr. Rexer mit den Konfirmand
 en\n\nanschließend Ständerling\n\n&nbsp\;
CATEGORIES:Gottesdienste
LOCATION:Auferstehungskirche\, Sonnenbergstraße 19\, Heilbronn-Böckingen\
 , 74080\, Deutschland
X-APPLE-STRUCTURED-LOCATION;VALUE=URI;X-ADDRESS=Sonnenbergstraße 19\, Heil
 bronn-Böckingen\, 74080\, Deutschland;X-APPLE-RADIUS=100;X-TITLE=Auferste
 hungskirche:geo:0,0
END:VEVENT
END:VCALENDAR