BEGIN:VCALENDAR
VERSION:2.0
PRODID:-//wp-events-plugin.com//7.2.3.1//EN
TZID:Europe/Berlin
X-WR-TIMEZONE:Europe/Berlin
BEGIN:VEVENT
UID:14286@kirche-boeckingen-klingenberg.de
DTSTART:20230409T100000Z
DTEND:20230409T100000Z
DTSTAMP:20230215T040711Z
URL:https://kirche-boeckingen-klingenberg.de/events/ostersonntag-2
SUMMARY:Ostersonntag
DESCRIPTION:Familiengottesdienst mit Taufmöglichkeit und Kinderkirche – 
 Pfarrerin Besserer
CATEGORIES:Gottesdienste,Gottesdienste mit Taufmöglichkeit,Kinderkirche
LOCATION:Kirche Klingenberg\, Kirchgässle 10\, Heilbronn-Klingenberg\, 740
 81\, Deutschland
X-APPLE-STRUCTURED-LOCATION;VALUE=URI;X-ADDRESS=Kirchgässle 10\, Heilbronn
 -Klingenberg\, 74081\, Deutschland;X-APPLE-RADIUS=100;X-TITLE=Kirche Kling
 enberg:geo:0,0
END:VEVENT
END:VCALENDAR