BEGIN:VCALENDAR
VERSION:2.0
PRODID:-//wp-events-plugin.com//7.2.3.1//EN
TZID:Europe/Berlin
X-WR-TIMEZONE:Europe/Berlin
BEGIN:VEVENT
UID:14288@kirche-boeckingen-klingenberg.de
DTSTART:20230410T100000Z
DTEND:20230410T100000Z
DTSTAMP:20230215T041051Z
URL:https://kirche-boeckingen-klingenberg.de/events/ostermontag
SUMMARY:Ostermontag
DESCRIPTION:Auf Schatzsuche\nOsterfrühstück mit anschließender Matinée 
 – Pfarrer Stadler
CATEGORIES:Gottesdienste
LOCATION:Kirche Klingenberg\, Kirchgässle 10\, Heilbronn-Klingenberg\, 740
 81\, Deutschland
X-APPLE-STRUCTURED-LOCATION;VALUE=URI;X-ADDRESS=Kirchgässle 10\, Heilbronn
 -Klingenberg\, 74081\, Deutschland;X-APPLE-RADIUS=100;X-TITLE=Kirche Kling
 enberg:geo:0,0
END:VEVENT
END:VCALENDAR