BEGIN:VCALENDAR
VERSION:2.0
PRODID:-//wp-events-plugin.com//7.2.3.1//EN
TZID:Europe/Berlin
X-WR-TIMEZONE:Europe/Berlin
BEGIN:VEVENT
UID:19794@kirche-boeckingen-klingenberg.de
DTSTART:20260405T053000Z
DTEND:20260405T053000Z
DTSTAMP:20260312T135851Z
URL:https://kirche-boeckingen-klingenberg.de/events/osterfeuer-2
SUMMARY:Osterfeuer in Klingenberg
DESCRIPTION:
ATTACH;FMTTYPE=image/jpeg:https://kirche-boeckingen-klingenberg.de/wp-cont
 ent/uploads/2023/02/Osterfeuer.png
CATEGORIES:Angebote,Gottesdienste
LOCATION:Feldwegkreuzung oberhalb der Kindertagesstätte Regenbogen\, 49.12
 3325\, 9.157423\, Heilbronn-Klingenberg\, Deutschland
X-APPLE-STRUCTURED-LOCATION;VALUE=URI;X-ADDRESS=49.123325\, 9.157423\, Heil
 bronn-Klingenberg\, Deutschland;X-APPLE-RADIUS=100;X-TITLE=Feldwegkreuzung
  oberhalb der Kindertagesstätte Regenbogen:geo:0,0
END:VEVENT
END:VCALENDAR