BEGIN:VCALENDAR
VERSION:2.0
PRODID:-//wp-events-plugin.com//7.2.3.1//EN
TZID:Europe/Berlin
X-WR-TIMEZONE:Europe/Berlin
BEGIN:VEVENT
UID:14314@kirche-boeckingen-klingenberg.de
DTSTART:20230402T180000Z
DTEND:20230402T180000Z
DTSTAMP:20230322T091512Z
URL:https://kirche-boeckingen-klingenberg.de/events/orgelkonzert
SUMMARY:Orgelkonzert
DESCRIPTION:Einweihung der Orgel in der Stadtkirche\nBettina Astfalk-Lehman
 n und Thomas J. Astfalk
CATEGORIES:Kirchenmusik
LOCATION:Stadtkirche\, Kirchsteige 10\, Heilbronn-Böckingen\, 74080\, Deut
 schland
X-APPLE-STRUCTURED-LOCATION;VALUE=URI;X-ADDRESS=Kirchsteige 10\, Heilbronn-
 Böckingen\, 74080\, Deutschland;X-APPLE-RADIUS=100;X-TITLE=Stadtkirche:ge
 o:0,0
END:VEVENT
END:VCALENDAR