BEGIN:VCALENDAR
VERSION:2.0
PRODID:-//wp-events-plugin.com//7.2.3.1//EN
TZID:Europe/Berlin
X-WR-TIMEZONE:Europe/Berlin
BEGIN:VEVENT
UID:16845@kirche-boeckingen-klingenberg.de
DTSTART:20230917T143000Z
DTEND:20230917T173000Z
DTSTAMP:20230905T093418Z
URL:https://kirche-boeckingen-klingenberg.de/events/orgel-radfahrt
SUMMARY:Orgel-Radfahrt
DESCRIPTION:
CATEGORIES:Angebote
END:VEVENT
END:VCALENDAR