BEGIN:VCALENDAR
VERSION:2.0
PRODID:-//wp-events-plugin.com//7.2.3.1//EN
TZID:Europe/Berlin
X-WR-TIMEZONE:Europe/Berlin
BEGIN:VEVENT
UID:14265@kirche-boeckingen-klingenberg.de
DTSTART:20230312T103000Z
DTEND:20230312T103000Z
DTSTAMP:20230214T195249Z
URL:https://kirche-boeckingen-klingenberg.de/events/okuli-4
SUMMARY:Okuli
DESCRIPTION:Gottesdienst mit Taufmöglichkeit und dem Posaunenchor – Pfar
 rer Dr. Rexer
CATEGORIES:Gottesdienste,Gottesdienste mit Musik,Gottesdienste mit
 Taufmöglichkeit
LOCATION:Stadtkirche\, Kirchsteige 10\, Heilbronn-Böckingen\, 74080\, Deut
 schland
X-APPLE-STRUCTURED-LOCATION;VALUE=URI;X-ADDRESS=Kirchsteige 10\, Heilbronn-
 Böckingen\, 74080\, Deutschland;X-APPLE-RADIUS=100;X-TITLE=Stadtkirche:ge
 o:0,0
END:VEVENT
END:VCALENDAR