BEGIN:VCALENDAR
VERSION:2.0
PRODID:-//wp-events-plugin.com//7.2.3.1//EN
TZID:Europe/Berlin
X-WR-TIMEZONE:Europe/Berlin
BEGIN:VEVENT
UID:14263@kirche-boeckingen-klingenberg.de
DTSTART:20230312T093000Z
DTEND:20230312T093000Z
DTSTAMP:20230214T194515Z
URL:https://kirche-boeckingen-klingenberg.de/events/okuli-2
SUMMARY:Okuli
DESCRIPTION:Gottesdienst mit Taufmöglichkeit – Pfarrer Dr. Rexer
CATEGORIES:Gottesdienste,Gottesdienste mit Taufmöglichkeit
LOCATION:Auferstehungskirche\, Sonnenbergstraße 19\, Heilbronn-Böckingen\
 , 74080\, Deutschland
X-APPLE-STRUCTURED-LOCATION;VALUE=URI;X-ADDRESS=Sonnenbergstraße 19\, Heil
 bronn-Böckingen\, 74080\, Deutschland;X-APPLE-RADIUS=100;X-TITLE=Auferste
 hungskirche:geo:0,0
END:VEVENT
END:VCALENDAR