BEGIN:VCALENDAR
VERSION:2.0
PRODID:-//wp-events-plugin.com//7.2.3.1//EN
TZID:Europe/Berlin
X-WR-TIMEZONE:Europe/Berlin
BEGIN:VEVENT
UID:6129@kirche-boeckingen-klingenberg.de
DTSTART:20230314T143000Z
DTEND:20230314T143000Z
DTSTAMP:20230201T151923Z
URL:https://kirche-boeckingen-klingenberg.de/events/oekumenischer-senioren
 nachmittag
SUMMARY:Ökumenischer Seniorennachmittag
DESCRIPTION:Frühlingsgefühle – Lieder und Texte mit Dorothea Häfner un
 d Pfarrer Peter Stadler
ATTACH;FMTTYPE=image/jpeg:https://kirche-boeckingen-klingenberg.de/wp-cont
 ent/uploads/2022/11/Seniorennachmittag.png
CATEGORIES:Angebote,Ökumenischer Seniorennachmittag Klingenberg,Senioren
 Petrus-Runde
LOCATION:Lukas-Gemeindehaus\, Kirchgässle 10\, Heilbronn-Klingenberg\, 740
 81\, Deutschland
X-APPLE-STRUCTURED-LOCATION;VALUE=URI;X-ADDRESS=Kirchgässle 10\, Heilbronn
 -Klingenberg\, 74081\, Deutschland;X-APPLE-RADIUS=100;X-TITLE=Lukas-Gemein
 dehaus:geo:0,0
END:VEVENT
END:VCALENDAR