BEGIN:VCALENDAR
VERSION:2.0
PRODID:-//wp-events-plugin.com//7.2.3.1//EN
TZID:Europe/Berlin
X-WR-TIMEZONE:Europe/Berlin
BEGIN:VEVENT
UID:19698@kirche-boeckingen-klingenberg.de
DTSTART:20260203T143000Z
DTEND:20260203T143000Z
DTSTAMP:20260122T050602Z
URL:https://kirche-boeckingen-klingenberg.de/events/oekum-seniorennachmitt
 ag
SUMMARY:Ökum. Seniorennachmittag in Klingenberg
DESCRIPTION:Thema: So isst die Welt – Länder\, in denen die gesunden 100
 -jährigen leben\n\nReferentin: Silke Klaar
ATTACH;FMTTYPE=image/jpeg:https://kirche-boeckingen-klingenberg.de/wp-cont
 ent/uploads/2024/02/OekumSenioren.png
CATEGORIES:Angebote,Lukas-Gemeindehaus
LOCATION:Lukas-Gemeindehaus\, Kirchgässle 10\, Heilbronn-Klingenberg\, 740
 81\, Deutschland
X-APPLE-STRUCTURED-LOCATION;VALUE=URI;X-ADDRESS=Kirchgässle 10\, Heilbronn
 -Klingenberg\, 74081\, Deutschland;X-APPLE-RADIUS=100;X-TITLE=Lukas-Gemein
 dehaus:geo:0,0
END:VEVENT
END:VCALENDAR