BEGIN:VCALENDAR
VERSION:2.0
PRODID:-//wp-events-plugin.com//7.2.3.1//EN
TZID:Europe/Berlin
X-WR-TIMEZONE:Europe/Berlin
BEGIN:VEVENT
UID:15836@kirche-boeckingen-klingenberg.de
DTSTART:20231017T143000Z
DTEND:20231017T170000Z
DTSTAMP:20231006T090629Z
URL:https://kirche-boeckingen-klingenberg.de/events/oekum-senioren-nachmit
 tag-in-klingenberg
SUMMARY:Ökum. Senioren-Nachmittag in Klingenberg
DESCRIPTION:Gemeinsam mit der Senioren Runde Petrus\n\n&nbsp\;
CATEGORIES:Lukas-Gemeindehaus,Ökumenischer Seniorennachmittag Klingenberg
LOCATION:Lukas-Gemeindehaus\, Kirchgässle 10\, Heilbronn-Klingenberg\, 740
 81\, Deutschland
X-APPLE-STRUCTURED-LOCATION;VALUE=URI;X-ADDRESS=Kirchgässle 10\, Heilbronn
 -Klingenberg\, 74081\, Deutschland;X-APPLE-RADIUS=100;X-TITLE=Lukas-Gemein
 dehaus:geo:0,0
END:VEVENT
END:VCALENDAR