BEGIN:VCALENDAR
VERSION:2.0
PRODID:-//wp-events-plugin.com//7.2.3.1//EN
TZID:Europe/Berlin
X-WR-TIMEZONE:Europe/Berlin
BEGIN:VEVENT
UID:20759@kirche-boeckingen-klingenberg.de
DTSTART;TZID=Europe/Berlin:20260524T110000
DTEND;TZID=Europe/Berlin:20260524T110000
DTSTAMP:20260408T133031Z
URL:https://kirche-boeckingen-klingenberg.de/events/oekum-gottesdienst-im-
 ziegeleipark-pfarrer-stadler-pfarrer-hammer-ak-oekumene
SUMMARY:Ökum. Gottesdienst im Ziegeleipark - Pfarrer Stadler/Pfarrer Hamme
 r/AK-Ökumene
DESCRIPTION:Kinderkirche\nProjektchor
CATEGORIES:Angebote,Gottesdienste
END:VEVENT
BEGIN:VTIMEZONE
TZID:Europe/Berlin
X-LIC-LOCATION:Europe/Berlin
BEGIN:DAYLIGHT
DTSTART:20260329T030000
TZOFFSETFROM:+0100
TZOFFSETTO:+0200
TZNAME:CEST
END:DAYLIGHT
END:VTIMEZONE
END:VCALENDAR