BEGIN:VCALENDAR
VERSION:2.0
PRODID:-//wp-events-plugin.com//7.2.3.1//EN
TZID:Europe/Berlin
X-WR-TIMEZONE:Europe/Berlin
BEGIN:VEVENT
UID:19543@kirche-boeckingen-klingenberg.de
DTSTART:20251130T103000Z
DTEND:20251130T113000Z
DTSTAMP:20250919T104508Z
URL:https://kirche-boeckingen-klingenberg.de/events/oekum-familien-gottesd
 ienst-zum-adventsmarkt-im-buergerhaus-boeckingen
SUMMARY:Ökum. Familien-Gottesdienst zum Adventsmarkt im Bürgerhaus Böcki
 ngen
DESCRIPTION:
CATEGORIES:Angebote,Gottesdienste
END:VEVENT
END:VCALENDAR