BEGIN:VCALENDAR
VERSION:2.0
PRODID:-//wp-events-plugin.com//7.2.3.1//EN
TZID:Europe/Berlin
X-WR-TIMEZONE:Europe/Berlin
BEGIN:VEVENT
UID:18979@kirche-boeckingen-klingenberg.de
DTSTART:20250706T100000Z
DTEND:20250706T110000Z
DTSTAMP:20250521T100815Z
URL:https://kirche-boeckingen-klingenberg.de/events/oekum-erntebitt-gottes
 dienst-zum-schutzhuettenfest-pfarrer-dr-rexer-mit-dem-posaunenchor
SUMMARY:Ökum. Erntebitt-Gottesdienst zum Schutzhüttenfest - Pfarrer Dr. R
 exer mit dem Posaunenchor
DESCRIPTION:
CATEGORIES:Angebote,Gottesdienste
END:VEVENT
END:VCALENDAR