BEGIN:VCALENDAR
VERSION:2.0
PRODID:-//wp-events-plugin.com//7.2.3.1//EN
TZID:Europe/Berlin
X-WR-TIMEZONE:Europe/Berlin
BEGIN:VEVENT
UID:19004@kirche-boeckingen-klingenberg.de
DTSTART:20250919T090000Z
DTEND:20250919T094500Z
DTSTAMP:20250521T105959Z
URL:https://kirche-boeckingen-klingenberg.de/events/oekum-einschulungs-got
 tesdienst-in-der-kirche-in-klingenberg-pfarrerin-besserer-2
SUMMARY:Ökum. Einschulungs-Gottesdienst in der Kirche in Klingenberg - Pfa
 rrerin Besserer
DESCRIPTION:
CATEGORIES:Angebote,Gottesdienste,Kirche Klingenberg
LOCATION:Kirche Klingenberg\, Kirchgässle 10\, Heilbronn-Klingenberg\, 740
 81\, Deutschland
X-APPLE-STRUCTURED-LOCATION;VALUE=URI;X-ADDRESS=Kirchgässle 10\, Heilbronn
 -Klingenberg\, 74081\, Deutschland;X-APPLE-RADIUS=100;X-TITLE=Kirche Kling
 enberg:geo:0,0
END:VEVENT
END:VCALENDAR