BEGIN:VCALENDAR
VERSION:2.0
PRODID:-//wp-events-plugin.com//7.2.3.1//EN
TZID:Europe/Berlin
X-WR-TIMEZONE:Europe/Berlin
BEGIN:VEVENT
UID:14312@kirche-boeckingen-klingenberg.de
DTSTART:20230328T193000Z
DTEND:20230328T193000Z
DTSTAMP:20230220T041812Z
URL:https://kirche-boeckingen-klingenberg.de/events/oeffentliche-kirchenge
 meinderatssitzung-4
SUMMARY:Öffentliche Kirchengemeinderatssitzung
DESCRIPTION:
CATEGORIES:Kirchengemeinderat
LOCATION:Familienzentrum Kreuzgrund\, Holunderweg 57\, Heilbronn-Böckingen
 \, 74080\, Deutschland
X-APPLE-STRUCTURED-LOCATION;VALUE=URI;X-ADDRESS=Holunderweg 57\, Heilbronn-
 Böckingen\, 74080\, Deutschland;X-APPLE-RADIUS=100;X-TITLE=Familienzentru
 m Kreuzgrund:geo:0,0
END:VEVENT
END:VCALENDAR