BEGIN:VCALENDAR
VERSION:2.0
PRODID:-//wp-events-plugin.com//7.2.3.1//EN
TZID:Europe/Berlin
X-WR-TIMEZONE:Europe/Berlin
BEGIN:VEVENT
UID:19552@kirche-boeckingen-klingenberg.de
DTSTART:20251221T100000Z
DTEND:20251221T110000Z
DTSTAMP:20250919T112515Z
URL:https://kirche-boeckingen-klingenberg.de/events/lied-predigt-am-4-adve
 nt-in-der-stadtkirche-pfarrerin-siegel
SUMMARY:Lied-Predigt am 4. Advent in der Stadtkirche - Pfarrerin Siegel
DESCRIPTION:
CATEGORIES:Angebote,Gottesdienste,Stadtkirche
LOCATION:Stadtkirche\, Kirchsteige 10\, Heilbronn-Böckingen\, 74080\, Deut
 schland
X-APPLE-STRUCTURED-LOCATION;VALUE=URI;X-ADDRESS=Kirchsteige 10\, Heilbronn-
 Böckingen\, 74080\, Deutschland;X-APPLE-RADIUS=100;X-TITLE=Stadtkirche:ge
 o:0,0
END:VEVENT
END:VCALENDAR