BEGIN:VCALENDAR
VERSION:2.0
PRODID:-//wp-events-plugin.com//7.2.3.1//EN
TZID:Europe/Berlin
X-WR-TIMEZONE:Europe/Berlin
BEGIN:VEVENT
UID:14266@kirche-boeckingen-klingenberg.de
DTSTART:20230319T103000Z
DTEND:20230319T103000Z
DTSTAMP:20230220T062822Z
URL:https://kirche-boeckingen-klingenberg.de/events/laetare
SUMMARY:Laetare
DESCRIPTION:Gottesdienst für Jung und Alt\, Kinderchor und Kinderkirche 
 – Pfarrerin Siegel\n\nKinder singen im Gottesdienst mit einem Projekt-Ki
 nderchor unter der Leitung von Bettina Astfalk-Lehmann.\nGeprobt wird an d
 en Samstagen 11. und 18. März jeweils von 11 bis ca. 12 Uhr ebenfalls in 
 der Stadtkirche.\n\nInfos und Anmeldung bei\nBettina Astfalk-Lehmann\, Tel
 . 477 480\nbettina.astfalklehmann@web.de
ATTACH;FMTTYPE=image/jpeg:https://kirche-boeckingen-klingenberg.de/wp-cont
 ent/uploads/2022/11/Logo-LV-transparent-scaled-1-e1672057106274.jpg
CATEGORIES:Gottesdienste,Gottesdienste mit Musik,Kinderkirche
LOCATION:Stadtkirche\, Kirchsteige 10\, Heilbronn-Böckingen\, 74080\, Deut
 schland
X-APPLE-STRUCTURED-LOCATION;VALUE=URI;X-ADDRESS=Kirchsteige 10\, Heilbronn-
 Böckingen\, 74080\, Deutschland;X-APPLE-RADIUS=100;X-TITLE=Stadtkirche:ge
 o:0,0
END:VEVENT
END:VCALENDAR