BEGIN:VCALENDAR
VERSION:2.0
PRODID:-//wp-events-plugin.com//7.2.3.1//EN
TZID:Europe/Berlin
X-WR-TIMEZONE:Europe/Berlin
BEGIN:VEVENT
UID:16896@kirche-boeckingen-klingenberg.de
DTSTART:20231224T150000Z
DTEND:20231224T180000Z
DTSTAMP:20231031T115107Z
URL:https://kirche-boeckingen-klingenberg.de/events/krippenspiele-an-heili
 g-abend
SUMMARY:Krippenspiele an Heilig Abend
DESCRIPTION:
CATEGORIES:Angebote,Gottesdienste,Kinderkirche
END:VEVENT
END:VCALENDAR