BEGIN:VCALENDAR
VERSION:2.0
PRODID:-//wp-events-plugin.com//7.2.3.1//EN
TZID:Europe/Berlin
X-WR-TIMEZONE:Europe/Berlin
BEGIN:VEVENT
UID:6076@kirche-boeckingen-klingenberg.de
DTSTART:20230507T100000Z
DTEND:20230507T100000Z
DTSTAMP:20230215T042038Z
URL:https://kirche-boeckingen-klingenberg.de/events/konfirmation-in-boecki
 ngen-2
SUMMARY:Konfirmation in Böckingen
DESCRIPTION:Konfirmation mit Abendmahl – Pfarrer Dr. Rexer
CATEGORIES:Gottesdienste,Gottesdienste mit Abendmahl,Konfirmation
LOCATION:Auferstehungskirche\, Sonnenbergstraße 19\, Heilbronn-Böckingen\
 , 74080\, Deutschland
X-APPLE-STRUCTURED-LOCATION;VALUE=URI;X-ADDRESS=Sonnenbergstraße 19\, Heil
 bronn-Böckingen\, 74080\, Deutschland;X-APPLE-RADIUS=100;X-TITLE=Auferste
 hungskirche:geo:0,0
END:VEVENT
END:VCALENDAR