BEGIN:VCALENDAR
VERSION:2.0
PRODID:-//wp-events-plugin.com//7.2.3.1//EN
TZID:Europe/Berlin
X-WR-TIMEZONE:Europe/Berlin
BEGIN:VEVENT
UID:16840@kirche-boeckingen-klingenberg.de
DTSTART:20231206T150000Z
DTEND:20231206T163000Z
DTSTAMP:20230831T092814Z
URL:https://kirche-boeckingen-klingenberg.de/events/konfirmanden-unterrich
 t-2023-12-06
SUMMARY:Konfirmanden-Unterricht
DESCRIPTION:für die Klingenberger Konfirmanden
CATEGORIES:Lukas-Gemeindehaus
LOCATION:Lukas-Gemeindehaus\, Kirchgässle 10\, Heilbronn-Klingenberg\, 740
 81\, Deutschland
X-APPLE-STRUCTURED-LOCATION;VALUE=URI;X-ADDRESS=Kirchgässle 10\, Heilbronn
 -Klingenberg\, 74081\, Deutschland;X-APPLE-RADIUS=100;X-TITLE=Lukas-Gemein
 dehaus:geo:0,0
END:VEVENT
END:VCALENDAR