BEGIN:VCALENDAR
VERSION:2.0
PRODID:-//wp-events-plugin.com//7.2.3.1//EN
TZID:Europe/Berlin
X-WR-TIMEZONE:Europe/Berlin
BEGIN:VEVENT
UID:19728@kirche-boeckingen-klingenberg.de
DTSTART;TZID=Europe/Berlin:20251213T090000
DTEND;TZID=Europe/Berlin:20251213T140000
DTSTAMP:20251114T202832Z
URL:https://kirche-boeckingen-klingenberg.de/events/klingenberger-weihnach
 tsbaumverkauf-3
SUMMARY:Klingenberger Weihnachtsbaumverkauf
DESCRIPTION:
ATTACH;FMTTYPE=image/jpeg:https://kirche-boeckingen-klingenberg.de/wp-cont
 ent/uploads/2025/11/2025-12-13_WeihnachtsbaumverkaufWaffeln_Web.png
LOCATION:Grundschule Klingenberg\, Sonnenhalde 25\, Heilbronn-Klingenberg\,
  74081\, Deutschland
X-APPLE-STRUCTURED-LOCATION;VALUE=URI;X-ADDRESS=Sonnenhalde 25\, Heilbronn-
 Klingenberg\, 74081\, Deutschland;X-APPLE-RADIUS=100;X-TITLE=Grundschule K
 lingenberg:geo:0,0
END:VEVENT
BEGIN:VTIMEZONE
TZID:Europe/Berlin
X-LIC-LOCATION:Europe/Berlin
BEGIN:STANDARD
DTSTART:20251026T020000
TZOFFSETFROM:+0200
TZOFFSETTO:+0100
TZNAME:CET
END:STANDARD
END:VTIMEZONE
END:VCALENDAR