BEGIN:VCALENDAR
VERSION:2.0
PRODID:-//wp-events-plugin.com//7.2.3.1//EN
TZID:Europe/Berlin
X-WR-TIMEZONE:Europe/Berlin
BEGIN:VEVENT
UID:14311@kirche-boeckingen-klingenberg.de
DTSTART:20230325T120000Z
DTEND:20230325T150000Z
DTSTAMP:20230220T035627Z
URL:https://kirche-boeckingen-klingenberg.de/events/kinderkleiderbasar
SUMMARY:Kinderkleiderbasar
DESCRIPTION:Der Petrus-Kindergarten lädt ein zum Kinderkleiderbasar und so
 rgt für das leibliche Wohl.\nEine Entdeckertour durch die Versöhnungskir
 che und eine Station zum Basteln runden das\nbunte Programm ab.\nHerzliche
  Einladung an alle Eltern und Alleinerziehende mit ihren Kindern!\nEs freu
 en sich auf Ihren Besuch: das Team des Petruskindergartens sowie Benjamin 
 Graf und Pfarrerin Stefanie C. Siegel mit Mitarbeitenden
CATEGORIES:Kinder und Jugendliche
LOCATION:Familienzentrum Kreuzgrund\, Holunderweg 57\, Heilbronn-Böckingen
 \, 74080\, Deutschland
X-APPLE-STRUCTURED-LOCATION;VALUE=URI;X-ADDRESS=Holunderweg 57\, Heilbronn-
 Böckingen\, 74080\, Deutschland;X-APPLE-RADIUS=100;X-TITLE=Familienzentru
 m Kreuzgrund:geo:0,0
END:VEVENT
END:VCALENDAR