BEGIN:VCALENDAR
VERSION:2.0
PRODID:-//wp-events-plugin.com//7.2.3.1//EN
TZID:Europe/Berlin
X-WR-TIMEZONE:Europe/Berlin
BEGIN:VEVENT
UID:20678@kirche-boeckingen-klingenberg.de
DTSTART;TZID=Europe/Berlin:20260321T100000
DTEND;TZID=Europe/Berlin:20260321T120000
DTSTAMP:20260307T132350Z
URL:https://kirche-boeckingen-klingenberg.de/events/kinderkleider-und-spie
 lzeugbasar
SUMMARY:Kinderkleider- und Spielzeugbasar
DESCRIPTION:Für das leibliche Wohl ist gesorgt. Verkauf von Getränken\, K
 affee &amp\; Kuchen\n\nTischgebühr 14 €\n\nWeitere Infos und Tischreser
 vierung unter: elternbeirat.kigapaulus@gmail.com
ATTACH;FMTTYPE=image/jpeg:https://kirche-boeckingen-klingenberg.de/wp-cont
 ent/uploads/2026/03/Kinderkleider-und-Spielezugbasar_KigaPaulus.png
CATEGORIES:Familienzentrum Kreuzgrund,Kinder
LOCATION:Familienzentrum Kreuzgrund\, Holunderweg 57\, Heilbronn-Böckingen
 \, 74080\, Deutschland
X-APPLE-STRUCTURED-LOCATION;VALUE=URI;X-ADDRESS=Holunderweg 57\, Heilbronn-
 Böckingen\, 74080\, Deutschland;X-APPLE-RADIUS=100;X-TITLE=Familienzentru
 m Kreuzgrund:geo:0,0
END:VEVENT
BEGIN:VTIMEZONE
TZID:Europe/Berlin
X-LIC-LOCATION:Europe/Berlin
BEGIN:STANDARD
DTSTART:20251026T020000
TZOFFSETFROM:+0200
TZOFFSETTO:+0100
TZNAME:CET
END:STANDARD
END:VTIMEZONE
END:VCALENDAR