BEGIN:VCALENDAR
VERSION:2.0
PRODID:-//wp-events-plugin.com//7.2.3.1//EN
TZID:Europe/Berlin
X-WR-TIMEZONE:Europe/Berlin
BEGIN:VEVENT
UID:19539@kirche-boeckingen-klingenberg.de
DTSTART:20250927T103000Z
DTEND:20250927T130000Z
DTSTAMP:20250918T041432Z
URL:https://kirche-boeckingen-klingenberg.de/events/kinderbasar-kita-schan
 z
SUMMARY:Kinderbasar (Kita Schanz)
DESCRIPTION:Einlass für Schwangere ab 10:30 Uhr
ATTACH;FMTTYPE=image/jpeg:https://kirche-boeckingen-klingenberg.de/wp-cont
 ent/uploads/2025/09/Kinderbasar_Kita-Schanz.png
CATEGORIES:Familienzentrum Kreuzgrund,Kinder
LOCATION:Familienzentrum Kreuzgrund\, Holunderweg 57\, Heilbronn-Böckingen
 \, 74080\, Deutschland
X-APPLE-STRUCTURED-LOCATION;VALUE=URI;X-ADDRESS=Holunderweg 57\, Heilbronn-
 Böckingen\, 74080\, Deutschland;X-APPLE-RADIUS=100;X-TITLE=Familienzentru
 m Kreuzgrund:geo:0,0
END:VEVENT
END:VCALENDAR