BEGIN:VCALENDAR
VERSION:2.0
PRODID:-//wp-events-plugin.com//7.2.3.1//EN
TZID:Europe/Berlin
X-WR-TIMEZONE:Europe/Berlin
BEGIN:VEVENT
UID:19766@kirche-boeckingen-klingenberg.de
DTSTART;TZID=Europe/Berlin:20260104T093000
DTEND;TZID=Europe/Berlin:20260104T103000
DTSTAMP:20251222T143614Z
URL:https://kirche-boeckingen-klingenberg.de/events/gottesdienst-zum-neuja
 hrsempfang-in-der-turnhalle-der-grundschule-klingenberg-pfarrerin-siegel
SUMMARY:Gottesdienst zum Neujahrsempfang in der Turnhalle der Grundschule K
 lingenberg - Pfarrerin Siegel
DESCRIPTION:
CATEGORIES:Angebote,Gottesdienste
END:VEVENT
BEGIN:VTIMEZONE
TZID:Europe/Berlin
X-LIC-LOCATION:Europe/Berlin
BEGIN:STANDARD
DTSTART:20251026T020000
TZOFFSETFROM:+0200
TZOFFSETTO:+0100
TZNAME:CET
END:STANDARD
END:VTIMEZONE
END:VCALENDAR